Package: dcGSA Version: 1.36.0 Command: /home/biocbuild/R/R/bin/R CMD build --keep-empty-dirs --no-resave-data dcGSA StartedAt: 2025-10-14 00:07:00 -0000 (Tue, 14 Oct 2025) EndedAt: 2025-10-14 00:07:01 -0000 (Tue, 14 Oct 2025) EllapsedTime: 1.0 seconds RetCode: 0 Status: OK PackageFile: dcGSA_1.36.0.tar.gz PackageFileSize: 37.43 KiB