Package: dandelionR Version: 1.0.2 Command: /home/biocbuild/R/R/bin/R CMD build --keep-empty-dirs --no-resave-data dandelionR StartedAt: 2025-10-14 00:05:43 -0000 (Tue, 14 Oct 2025) EndedAt: 2025-10-14 00:08:37 -0000 (Tue, 14 Oct 2025) EllapsedTime: 174.1 seconds RetCode: 0 Status: OK PackageFile: dandelionR_1.0.2.tar.gz PackageFileSize: 8.614 MiB