Package: dada2 Version: 1.36.0 Command: /home/biocbuild/R/R/bin/R CMD INSTALL dada2 StartedAt: 2025-10-13 21:08:37 -0000 (Mon, 13 Oct 2025) EndedAt: 2025-10-13 21:10:43 -0000 (Mon, 13 Oct 2025) EllapsedTime: 126.4 seconds RetCode: 0 Status: OK