Package: dada2 Version: 1.36.0 Command: /home/biocbuild/R/R/bin/R CMD build --keep-empty-dirs --no-resave-data dada2 StartedAt: 2025-10-14 00:04:04 -0000 (Tue, 14 Oct 2025) EndedAt: 2025-10-14 00:06:43 -0000 (Tue, 14 Oct 2025) EllapsedTime: 158.1 seconds RetCode: 0 Status: OK PackageFile: dada2_1.36.0.tar.gz PackageFileSize: 2.771 MiB