Package: dStruct Version: 1.14.0 Command: /Library/Frameworks/R.framework/Resources/bin/R CMD INSTALL dStruct StartedAt: 2025-10-13 15:39:42 -0400 (Mon, 13 Oct 2025) EndedAt: 2025-10-13 15:39:45 -0400 (Mon, 13 Oct 2025) EllapsedTime: 2.9 seconds RetCode: 0 Status: OK