Package: dStruct Version: 1.14.0 Command: /Library/Frameworks/R.framework/Resources/bin/R CMD build --keep-empty-dirs --no-resave-data dStruct StartedAt: 2025-10-13 23:37:15 -0400 (Mon, 13 Oct 2025) EndedAt: 2025-10-13 23:37:36 -0400 (Mon, 13 Oct 2025) EllapsedTime: 20.5 seconds RetCode: 0 Status: OK PackageFile: dStruct_1.14.0.tar.gz PackageFileSize: 557.4 KiB