Package: cytomapper Version: 1.20.0 Command: /home/biocbuild/bbs-3.21-bioc/R/bin/R CMD INSTALL cytomapper StartedAt: 2025-10-15 15:34:55 -0400 (Wed, 15 Oct 2025) EndedAt: 2025-10-15 15:35:51 -0400 (Wed, 15 Oct 2025) EllapsedTime: 56.0 seconds RetCode: 0 Status: OK