Package: cytomapper Version: 1.20.0 Command: /home/biocbuild/bbs-3.21-bioc/R/bin/R CMD build --keep-empty-dirs --no-resave-data cytomapper StartedAt: 2025-10-15 17:02:16 -0400 (Wed, 15 Oct 2025) EndedAt: 2025-10-15 17:03:54 -0400 (Wed, 15 Oct 2025) EllapsedTime: 98.1 seconds RetCode: 0 Status: OK PackageFile: cytomapper_1.20.0.tar.gz PackageFileSize: 20.96 MiB