Package: cytomapper Version: 1.20.0 Command: /Library/Frameworks/R.framework/Resources/bin/R CMD build --keep-empty-dirs --no-resave-data cytomapper StartedAt: 2025-10-13 22:27:48 -0400 (Mon, 13 Oct 2025) EndedAt: 2025-10-13 22:29:47 -0400 (Mon, 13 Oct 2025) EllapsedTime: 118.7 seconds RetCode: 0 Status: OK PackageFile: cytomapper_1.20.0.tar.gz PackageFileSize: 21.49 MiB