Package: cytomapper Version: 1.20.0 Command: rm -rf cytomapper.buildbin-libdir && mkdir cytomapper.buildbin-libdir && /Users/biocbuild/BBS/utils/build-universal.sh cytomapper_1.20.0.tar.gz /Library/Frameworks/R.framework/Resources/bin/R cytomapper.buildbin-libdir StartedAt: 2025-10-15 18:06:39 -0400 (Wed, 15 Oct 2025) EndedAt: 2025-10-15 18:07:53 -0400 (Wed, 15 Oct 2025) EllapsedTime: 74.1 seconds RetCode: 0 Status: OK PackageFile: cytomapper_1.20.0.tgz PackageFileSize: 5.459 MiB