Package: cytolib Version: 2.20.0 Command: /home/biocbuild/R/R/bin/R CMD INSTALL cytolib StartedAt: 2025-10-13 20:20:09 -0000 (Mon, 13 Oct 2025) EndedAt: 2025-10-13 20:23:59 -0000 (Mon, 13 Oct 2025) EllapsedTime: 230.2 seconds RetCode: 0 Status: OK