Package: cytolib Version: 2.20.0 Command: rm -rf cytolib.buildbin-libdir && mkdir cytolib.buildbin-libdir && /Users/biocbuild/BBS/utils/build-universal.sh cytolib_2.20.0.tar.gz /Library/Frameworks/R.framework/Resources/bin/R cytolib.buildbin-libdir StartedAt: 2025-10-15 18:06:31 -0400 (Wed, 15 Oct 2025) EndedAt: 2025-10-15 18:09:01 -0400 (Wed, 15 Oct 2025) EllapsedTime: 149.8 seconds RetCode: 0 Status: OK PackageFile: cytolib_2.20.0.tgz PackageFileSize: 9.755 MiB