Package: cytoKernel Version: 1.14.0 Command: /home/biocbuild/R/R/bin/R CMD INSTALL cytoKernel StartedAt: 2025-10-13 20:30:05 -0000 (Mon, 13 Oct 2025) EndedAt: 2025-10-13 20:30:50 -0000 (Mon, 13 Oct 2025) EllapsedTime: 45.5 seconds RetCode: 0 Status: OK