Package: cytoKernel Version: 1.14.0 Command: /Library/Frameworks/R.framework/Resources/bin/R CMD build --keep-empty-dirs --no-resave-data cytoKernel StartedAt: 2025-10-13 22:27:13 -0400 (Mon, 13 Oct 2025) EndedAt: 2025-10-13 22:28:08 -0400 (Mon, 13 Oct 2025) EllapsedTime: 55.4 seconds RetCode: 0 Status: OK PackageFile: cytoKernel_1.14.0.tar.gz PackageFileSize: 705.8 KiB