Package: cypress Version: 1.4.0 Command: /home/biocbuild/R/R/bin/R CMD INSTALL cypress StartedAt: 2025-10-13 21:19:43 -0000 (Mon, 13 Oct 2025) EndedAt: 2025-10-13 21:20:26 -0000 (Mon, 13 Oct 2025) EllapsedTime: 42.6 seconds RetCode: 0 Status: OK