Package: customProDB Version: 1.48.0 Command: /home/biocbuild/bbs-3.21-bioc/R/bin/R CMD INSTALL customProDB StartedAt: 2025-10-15 15:39:24 -0400 (Wed, 15 Oct 2025) EndedAt: 2025-10-15 15:40:08 -0400 (Wed, 15 Oct 2025) EllapsedTime: 43.4 seconds RetCode: 0 Status: OK