Package: customProDB Version: 1.48.0 Command: /home/biocbuild/bbs-3.21-bioc/R/bin/R CMD build --keep-empty-dirs --no-resave-data customProDB StartedAt: 2025-10-15 17:00:47 -0400 (Wed, 15 Oct 2025) EndedAt: 2025-10-15 17:01:57 -0400 (Wed, 15 Oct 2025) EllapsedTime: 70.0 seconds RetCode: 0 Status: OK PackageFile: customProDB_1.48.0.tar.gz PackageFileSize: 540.5 KiB