Package: customProDB Version: 1.48.0 Command: /Library/Frameworks/R.framework/Resources/bin/R CMD INSTALL customProDB StartedAt: 2025-10-13 16:12:11 -0400 (Mon, 13 Oct 2025) EndedAt: 2025-10-13 16:13:40 -0400 (Mon, 13 Oct 2025) EllapsedTime: 88.3 seconds RetCode: 0 Status: OK