Package: customProDB Version: 1.48.0 Command: /home/biocbuild/R/R/bin/R CMD build --keep-empty-dirs --no-resave-data customProDB StartedAt: 2025-10-14 00:00:33 -0000 (Tue, 14 Oct 2025) EndedAt: 2025-10-14 00:02:12 -0000 (Tue, 14 Oct 2025) EllapsedTime: 99.0 seconds RetCode: 0 Status: OK PackageFile: customProDB_1.48.0.tar.gz PackageFileSize: 537.3 KiB