Package: customCMPdb Version: 1.18.0 Command: /home/biocbuild/R/R/bin/R CMD build --keep-empty-dirs --no-resave-data customCMPdb StartedAt: 2025-10-14 00:00:30 -0000 (Tue, 14 Oct 2025) EndedAt: 2025-10-14 00:03:43 -0000 (Tue, 14 Oct 2025) EllapsedTime: 193.1 seconds RetCode: 0 Status: OK PackageFile: customCMPdb_1.18.0.tar.gz PackageFileSize: 749.8 KiB