Package: customCMPdb Version: 1.18.0 Command: rm -rf customCMPdb.buildbin-libdir && mkdir customCMPdb.buildbin-libdir && /Users/biocbuild/BBS/utils/build-universal.sh customCMPdb_1.18.0.tar.gz /Library/Frameworks/R.framework/Resources/bin/R customCMPdb.buildbin-libdir StartedAt: 2025-10-15 18:05:29 -0400 (Wed, 15 Oct 2025) EndedAt: 2025-10-15 18:05:54 -0400 (Wed, 15 Oct 2025) EllapsedTime: 24.8 seconds RetCode: 0 Status: OK PackageFile: customCMPdb_1.18.0.tgz PackageFileSize: 735.2 KiB