Package: csdR Version: 1.14.0 Command: /home/biocbuild/bbs-3.21-bioc/R/bin/R CMD build --keep-empty-dirs --no-resave-data csdR StartedAt: 2025-10-15 16:59:36 -0400 (Wed, 15 Oct 2025) EndedAt: 2025-10-15 17:00:26 -0400 (Wed, 15 Oct 2025) EllapsedTime: 50.1 seconds RetCode: 0 Status: OK PackageFile: csdR_1.14.0.tar.gz PackageFileSize: 1.438 MiB