Package: csdR Version: 1.14.0 Command: rm -rf csdR.buildbin-libdir && mkdir csdR.buildbin-libdir && /Users/biocbuild/BBS/utils/build-universal.sh csdR_1.14.0.tar.gz /Library/Frameworks/R.framework/Resources/bin/R csdR.buildbin-libdir StartedAt: 2025-10-14 13:09:48 -0400 (Tue, 14 Oct 2025) EndedAt: 2025-10-14 13:11:09 -0400 (Tue, 14 Oct 2025) EllapsedTime: 81.4 seconds RetCode: 0 Status: OK PackageFile: csdR_1.14.0.tgz PackageFileSize: 1.508 MiB