Package: csdR Version: 1.14.0 Command: /Library/Frameworks/R.framework/Resources/bin/R CMD build --keep-empty-dirs --no-resave-data csdR StartedAt: 2025-10-13 22:15:20 -0400 (Mon, 13 Oct 2025) EndedAt: 2025-10-13 22:16:25 -0400 (Mon, 13 Oct 2025) EllapsedTime: 65.2 seconds RetCode: 0 Status: OK PackageFile: csdR_1.14.0.tar.gz PackageFileSize: 1.46 MiB