Package: csdR Version: 1.14.0 Command: rm -rf csdR.buildbin-libdir && mkdir csdR.buildbin-libdir && /Users/biocbuild/BBS/utils/build-universal.sh csdR_1.14.0.tar.gz /Library/Frameworks/R.framework/Resources/bin/R csdR.buildbin-libdir StartedAt: 2025-10-15 18:04:33 -0400 (Wed, 15 Oct 2025) EndedAt: 2025-10-15 18:05:11 -0400 (Wed, 15 Oct 2025) EllapsedTime: 37.4 seconds RetCode: 0 Status: OK PackageFile: csdR_1.14.0.tgz PackageFileSize: 1.506 MiB