Package: csaw Version: 1.42.0 Command: /home/biocbuild/bbs-3.21-bioc/R/bin/R CMD INSTALL csaw StartedAt: 2025-10-15 15:16:31 -0400 (Wed, 15 Oct 2025) EndedAt: 2025-10-15 15:17:43 -0400 (Wed, 15 Oct 2025) EllapsedTime: 71.2 seconds RetCode: 0 Status: OK