Package: csaw Version: 1.42.0 Command: /home/biocbuild/R/R/bin/R CMD build --keep-empty-dirs --no-resave-data csaw StartedAt: 2025-10-13 23:58:42 -0000 (Mon, 13 Oct 2025) EndedAt: 2025-10-14 00:00:50 -0000 (Tue, 14 Oct 2025) EllapsedTime: 128.0 seconds RetCode: 0 Status: OK PackageFile: csaw_1.42.0.tar.gz PackageFileSize: 416.5 KiB