Package: csaw Version: 1.42.0 Command: /Library/Frameworks/R.framework/Resources/bin/R CMD INSTALL csaw StartedAt: 2025-10-13 16:04:49 -0400 (Mon, 13 Oct 2025) EndedAt: 2025-10-13 16:06:05 -0400 (Mon, 13 Oct 2025) EllapsedTime: 76.4 seconds RetCode: 0 Status: OK