Package: crupR Version: 1.0.0 Command: /Library/Frameworks/R.framework/Resources/bin/R CMD build --keep-empty-dirs --no-resave-data crupR StartedAt: 2025-04-21 16:01:55 -0400 (Mon, 21 Apr 2025) EndedAt: 2025-04-21 16:07:08 -0400 (Mon, 21 Apr 2025) EllapsedTime: 313.2 seconds RetCode: 0 Status: OK PackageFile: crupR_1.0.0.tar.gz PackageFileSize: 4.15 MiB