Package: crisprDesign Version: 1.10.0 Command: /home/biocbuild/R/R/bin/R CMD build --keep-empty-dirs --no-resave-data crisprDesign StartedAt: 2025-10-13 23:55:46 -0000 (Mon, 13 Oct 2025) EndedAt: 2025-10-13 23:58:05 -0000 (Mon, 13 Oct 2025) EllapsedTime: 139.0 seconds RetCode: 0 Status: OK PackageFile: crisprDesign_1.10.0.tar.gz PackageFileSize: 2.675 MiB