Package: crisprBase Version: 1.12.0 Command: /home/biocbuild/bbs-3.21-bioc/R/bin/R CMD INSTALL crisprBase StartedAt: 2025-10-15 15:14:33 -0400 (Wed, 15 Oct 2025) EndedAt: 2025-10-15 15:14:48 -0400 (Wed, 15 Oct 2025) EllapsedTime: 15.4 seconds RetCode: 0 Status: OK