Package: crisprBase Version: 1.12.0 Command: /home/biocbuild/R/R/bin/R CMD INSTALL crisprBase StartedAt: 2025-10-13 20:27:47 -0000 (Mon, 13 Oct 2025) EndedAt: 2025-10-13 20:28:08 -0000 (Mon, 13 Oct 2025) EllapsedTime: 21.3 seconds RetCode: 0 Status: OK