Package: crisprBase Version: 1.12.0 Command: /home/biocbuild/R/R/bin/R CMD build --keep-empty-dirs --no-resave-data crisprBase StartedAt: 2025-10-13 23:55:14 -0000 (Mon, 13 Oct 2025) EndedAt: 2025-10-13 23:55:47 -0000 (Mon, 13 Oct 2025) EllapsedTime: 33.0 seconds RetCode: 0 Status: OK PackageFile: crisprBase_1.12.0.tar.gz PackageFileSize: 1.796 MiB