Package: crisprBase Version: 1.12.0 Command: /Library/Frameworks/R.framework/Resources/bin/R CMD INSTALL crisprBase StartedAt: 2025-10-13 16:00:28 -0400 (Mon, 13 Oct 2025) EndedAt: 2025-10-13 16:00:47 -0400 (Mon, 13 Oct 2025) EllapsedTime: 18.6 seconds RetCode: 0 Status: OK