Package: cosmosR Version: 1.16.0 Command: /Library/Frameworks/R.framework/Resources/bin/R CMD INSTALL cosmosR StartedAt: 2025-04-21 15:23:18 -0400 (Mon, 21 Apr 2025) EndedAt: 2025-04-21 15:23:30 -0400 (Mon, 21 Apr 2025) EllapsedTime: 12.5 seconds RetCode: 0 Status: OK