Package: cosmosR Version: 1.16.0 Command: /Library/Frameworks/R.framework/Resources/bin/R CMD build --keep-empty-dirs --no-resave-data cosmosR StartedAt: 2025-04-21 16:24:50 -0400 (Mon, 21 Apr 2025) EndedAt: 2025-04-21 16:25:12 -0400 (Mon, 21 Apr 2025) EllapsedTime: 21.7 seconds RetCode: 0 Status: OK PackageFile: cosmosR_1.16.0.tar.gz PackageFileSize: 3.365 MiB