Package: cosmosR Version: 1.16.0 Command: /home/biocbuild/R/R/bin/R CMD INSTALL cosmosR StartedAt: 2025-10-13 20:44:25 -0000 (Mon, 13 Oct 2025) EndedAt: 2025-10-13 20:44:36 -0000 (Mon, 13 Oct 2025) EllapsedTime: 11.0 seconds RetCode: 0 Status: OK