Package: cosmiq Version: 1.42.0 Command: /home/biocbuild/R/R/bin/R CMD INSTALL cosmiq StartedAt: 2025-10-13 21:01:21 -0000 (Mon, 13 Oct 2025) EndedAt: 2025-10-13 21:02:21 -0000 (Mon, 13 Oct 2025) EllapsedTime: 60.0 seconds RetCode: 0 Status: OK