Package: cosmiq Version: 1.42.0 Command: /home/biocbuild/R/R/bin/R CMD build --keep-empty-dirs --no-resave-data cosmiq StartedAt: 2025-10-13 23:53:07 -0000 (Mon, 13 Oct 2025) EndedAt: 2025-10-13 23:56:37 -0000 (Mon, 13 Oct 2025) EllapsedTime: 210.1 seconds RetCode: 0 Status: OK PackageFile: cosmiq_1.42.0.tar.gz PackageFileSize: 535.1 KiB