Package: coseq Version: 1.32.1 Command: /home/biocbuild/R/R/bin/R CMD INSTALL coseq StartedAt: 2025-10-13 20:33:34 -0000 (Mon, 13 Oct 2025) EndedAt: 2025-10-13 20:34:21 -0000 (Mon, 13 Oct 2025) EllapsedTime: 46.3 seconds RetCode: 0 Status: OK