Package: coseq Version: 1.32.1 Command: /home/biocbuild/R/R/bin/R CMD build --keep-empty-dirs --no-resave-data coseq StartedAt: 2025-10-13 23:52:52 -0000 (Mon, 13 Oct 2025) EndedAt: 2025-10-13 23:59:46 -0000 (Mon, 13 Oct 2025) EllapsedTime: 414.1 seconds RetCode: 0 Status: OK PackageFile: coseq_1.32.1.tar.gz PackageFileSize: 1.836 MiB