Package: condiments Version: 1.16.0 Command: /home/biocbuild/bbs-3.21-bioc/R/bin/R CMD INSTALL condiments StartedAt: 2025-10-15 15:57:43 -0400 (Wed, 15 Oct 2025) EndedAt: 2025-10-15 15:58:18 -0400 (Wed, 15 Oct 2025) EllapsedTime: 35.0 seconds RetCode: 0 Status: OK