Package: condiments Version: 1.16.0 Command: /home/biocbuild/R/R/bin/R CMD INSTALL condiments StartedAt: 2025-10-13 21:18:33 -0000 (Mon, 13 Oct 2025) EndedAt: 2025-10-13 21:19:24 -0000 (Mon, 13 Oct 2025) EllapsedTime: 51.3 seconds RetCode: 0 Status: OK