Package: condiments Version: 1.16.0 Command: /home/biocbuild/R/R/bin/R CMD build --keep-empty-dirs --no-resave-data condiments StartedAt: 2025-10-13 23:49:47 -0000 (Mon, 13 Oct 2025) EndedAt: 2025-10-13 23:54:29 -0000 (Mon, 13 Oct 2025) EllapsedTime: 282.1 seconds RetCode: 0 Status: OK PackageFile: condiments_1.16.0.tar.gz PackageFileSize: 2.055 MiB