Package: compcodeR Version: 1.44.0 Command: /home/biocbuild/bbs-3.21-bioc/R/bin/R CMD build --keep-empty-dirs --no-resave-data compcodeR StartedAt: 2025-10-15 16:52:43 -0400 (Wed, 15 Oct 2025) EndedAt: 2025-10-15 16:53:04 -0400 (Wed, 15 Oct 2025) EllapsedTime: 21.0 seconds RetCode: 0 Status: OK PackageFile: compcodeR_1.44.0.tar.gz PackageFileSize: 4.743 MiB