Package: compcodeR Version: 1.44.0 Command: /Library/Frameworks/R.framework/Resources/bin/R CMD build --keep-empty-dirs --no-resave-data compcodeR StartedAt: 2025-10-13 18:04:26 -0400 (Mon, 13 Oct 2025) EndedAt: 2025-10-13 18:05:22 -0400 (Mon, 13 Oct 2025) EllapsedTime: 56.1 seconds RetCode: 0 Status: OK PackageFile: compcodeR_1.44.0.tar.gz PackageFileSize: 4.74 MiB