Package: compcodeR Version: 1.44.0 Command: /home/biocbuild/R/R/bin/R CMD INSTALL compcodeR StartedAt: 2025-10-13 20:19:08 -0000 (Mon, 13 Oct 2025) EndedAt: 2025-10-13 20:19:43 -0000 (Mon, 13 Oct 2025) EllapsedTime: 35.5 seconds RetCode: 0 Status: OK