Package: compcodeR Version: 1.44.0 Command: /home/biocbuild/R/R/bin/R CMD build --keep-empty-dirs --no-resave-data compcodeR StartedAt: 2025-10-13 23:48:11 -0000 (Mon, 13 Oct 2025) EndedAt: 2025-10-13 23:48:42 -0000 (Mon, 13 Oct 2025) EllapsedTime: 31.0 seconds RetCode: 0 Status: OK PackageFile: compcodeR_1.44.0.tar.gz PackageFileSize: 4.78 MiB