Package: compSPOT Version: 1.6.0 Command: /home/biocbuild/R/R/bin/R CMD INSTALL compSPOT StartedAt: 2025-10-13 20:20:50 -0000 (Mon, 13 Oct 2025) EndedAt: 2025-10-13 20:21:10 -0000 (Mon, 13 Oct 2025) EllapsedTime: 19.6 seconds RetCode: 0 Status: OK