Package: compEpiTools Version: 1.42.0 Command: /home/biocbuild/bbs-3.21-bioc/R/bin/R CMD build --keep-empty-dirs --no-resave-data compEpiTools StartedAt: 2025-10-15 16:52:44 -0400 (Wed, 15 Oct 2025) EndedAt: 2025-10-15 16:54:10 -0400 (Wed, 15 Oct 2025) EllapsedTime: 86.1 seconds RetCode: 0 Status: OK PackageFile: compEpiTools_1.42.0.tar.gz PackageFileSize: 2.165 MiB